BEGIN:VCALENDAR
VERSION:2.0
PRODID:-//Library Market//iCal Export//EN
BEGIN:VEVENT
SUMMARY:RW
UID:36638
DTSTAMP:20260422T094300Z
DTSTART:20260420T230000Z
DTEND:20260421T010000Z
LOCATION:4000 W. Pratt Ave., Lincolnwood, IL 60712, United States
ROOM: Study Room 3
DESCRIPTION:
URL:https://www.lincolnwoodlibrary.org/event/rw-36638
END:VEVENT
END:VCALENDAR
