BEGIN:VCALENDAR
VERSION:2.0
PRODID:-//Library Market//iCal Export//EN
BEGIN:VEVENT
SUMMARY:iPhone &amp; iPad Club (R)
UID:36599
DTSTAMP:20260420T015500Z
DTSTART:20260424T180000Z
DTEND:20260424T193000Z
LOCATION:4000 W. Pratt Ave., Lincolnwood, IL 60712, United States
ROOM: Meeting Room A/B
DESCRIPTION:Bring your iPhone and iPad to meet fellow Apple users and lear
 n to do more with your device.
URL:https://www.lincolnwoodlibrary.org/event/iphone-ipad-club-r-36599
END:VEVENT
END:VCALENDAR
